BEGIN:VCALENDAR
VERSION:2.0
PRODID:-//Varhaug IL - ECPv6.15.20//NONSGML v1.0//EN
CALSCALE:GREGORIAN
METHOD:PUBLISH
X-ORIGINAL-URL:https://www.vil.no
X-WR-CALDESC:Arrangement for Varhaug IL
REFRESH-INTERVAL;VALUE=DURATION:PT1H
X-Robots-Tag:noindex
X-PUBLISHED-TTL:PT1H
BEGIN:VTIMEZONE
TZID:UTC
BEGIN:STANDARD
TZOFFSETFROM:+0000
TZOFFSETTO:+0000
TZNAME:UTC
DTSTART:20240101T000000
END:STANDARD
END:VTIMEZONE
BEGIN:VEVENT
DTSTART;TZID=UTC:20251201T193000
DTEND;TZID=UTC:20251201T204500
DTSTAMP:20260425T123416
CREATED:20251201T000005Z
LAST-MODIFIED:20251201T000005Z
UID:10018871-1764617400-1764621900@www.vil.no
SUMMARY:Håndballkamp Varhaug - Hinna 2
DESCRIPTION:
URL:https://www.vil.no/aktivitet/handballkamp-varhaug-hinna-2-2/
LOCATION:Jæren Sparebank Arena\, Norge
CATEGORIES:Håndballkamper
END:VEVENT
BEGIN:VEVENT
DTSTART;TZID=UTC:20251204T182000
DTEND;TZID=UTC:20251204T193000
DTSTAMP:20260425T123416
CREATED:20251204T000004Z
LAST-MODIFIED:20251204T000004Z
UID:10018879-1764872400-1764876600@www.vil.no
SUMMARY:Håndballkamp Varhaug 2 - Sunde
DESCRIPTION:
URL:https://www.vil.no/aktivitet/handballkamp-varhaug-2-sunde-2/
LOCATION:Jæren Sparebank Arena\, Norge
CATEGORIES:Håndballkamper
END:VEVENT
BEGIN:VEVENT
DTSTART;TZID=UTC:20251207T120000
DTEND;TZID=UTC:20251207T125000
DTSTAMP:20260425T123416
CREATED:20251207T000005Z
LAST-MODIFIED:20251207T000005Z
UID:10018886-1765108800-1765111800@www.vil.no
SUMMARY:Håndballkamp Varhaug  - Ålgård
DESCRIPTION:
URL:https://www.vil.no/aktivitet/handballkamp-varhaug-algard-4/
LOCATION:Jæren Sparebank Arena\, Norge
CATEGORIES:Håndballkamper
END:VEVENT
BEGIN:VEVENT
DTSTART;TZID=UTC:20251207T133000
DTEND;TZID=UTC:20251207T142000
DTSTAMP:20260425T123416
CREATED:20251207T000005Z
LAST-MODIFIED:20251207T000005Z
UID:10018888-1765114200-1765117200@www.vil.no
SUMMARY:Håndballkamp Varhaug 2 - Hundvåg 2
DESCRIPTION:
URL:https://www.vil.no/aktivitet/handballkamp-varhaug-2-hundvag-2-2/
LOCATION:Jæren Sparebank Arena\, Norge
CATEGORIES:Håndballkamper
END:VEVENT
BEGIN:VEVENT
DTSTART;TZID=UTC:20251207T140000
DTEND;TZID=UTC:20251207T145000
DTSTAMP:20260425T123416
CREATED:20251207T000005Z
LAST-MODIFIED:20251207T000005Z
UID:10018889-1765116000-1765119000@www.vil.no
SUMMARY:Håndballkamp Varhaug - Hundvåg 1
DESCRIPTION:
URL:https://www.vil.no/aktivitet/handballkamp-varhaug-hundvag-1-2/
LOCATION:Varhaughallen\, Opstadvegen 583\, Varhaug\, 4360\, Norge
CATEGORIES:Håndballkamper
END:VEVENT
BEGIN:VEVENT
DTSTART;TZID=UTC:20251209T170000
DTEND;TZID=UTC:20251209T175000
DTSTAMP:20260425T123416
CREATED:20251209T000003Z
LAST-MODIFIED:20251209T000003Z
UID:10018892-1765299600-1765302600@www.vil.no
SUMMARY:Håndballkamp Varhaug - Kåsen
DESCRIPTION:
URL:https://www.vil.no/aktivitet/handballkamp-varhaug-kasen/
LOCATION:Jæren Sparebank Arena\, Norge
CATEGORIES:Håndballkamper
END:VEVENT
BEGIN:VEVENT
DTSTART;TZID=UTC:20251210T185000
DTEND;TZID=UTC:20251210T200000
DTSTAMP:20260425T123416
CREATED:20251210T000003Z
LAST-MODIFIED:20251210T000003Z
UID:10015935-1765392600-1765396800@www.vil.no
SUMMARY:Håndballkamp Varhaug 2 - Staal Jørpeland
DESCRIPTION:
URL:https://www.vil.no/aktivitet/handballkamp-varhaug-2-staal-jorpeland-2/
LOCATION:Varhaughallen\, Opstadvegen 583\, Varhaug\, 4360\, Norge
CATEGORIES:Håndballkamper
END:VEVENT
BEGIN:VEVENT
DTSTART;TZID=UTC:20251213T143000
DTEND;TZID=UTC:20251213T152000
DTSTAMP:20260425T123416
CREATED:20251128T000005Z
LAST-MODIFIED:20251128T000005Z
UID:10018893-1765636200-1765639200@www.vil.no
SUMMARY:Håndballkamp Varhaug  - Ganddal 1
DESCRIPTION:
URL:https://www.vil.no/aktivitet/handballkamp-varhaug-ganddal-1/
LOCATION:Varhaughallen\, Opstadvegen 583\, Varhaug\, 4360\, Norge
CATEGORIES:Håndballkamper
END:VEVENT
BEGIN:VEVENT
DTSTART;TZID=UTC:20251213T143000
DTEND;TZID=UTC:20251213T152000
DTSTAMP:20260425T123416
CREATED:20251213T000003Z
LAST-MODIFIED:20251213T000003Z
UID:10019003-1765636200-1765639200@www.vil.no
SUMMARY:Håndballkamp Varhaug  - Sola 4
DESCRIPTION:
URL:https://www.vil.no/aktivitet/handballkamp-varhaug-sola-4/
LOCATION:Varhaughallen\, Opstadvegen 583\, Varhaug\, 4360\, Norge
CATEGORIES:Håndballkamper
END:VEVENT
BEGIN:VEVENT
DTSTART;TZID=UTC:20251213T155000
DTEND;TZID=UTC:20251213T164000
DTSTAMP:20260425T123416
CREATED:20251213T000004Z
LAST-MODIFIED:20251213T000004Z
UID:10018896-1765641000-1765644000@www.vil.no
SUMMARY:Håndballkamp Varhaug  - Riska
DESCRIPTION:
URL:https://www.vil.no/aktivitet/handballkamp-varhaug-riska/
LOCATION:Varhaughallen\, Opstadvegen 583\, Varhaug\, 4360\, Norge
CATEGORIES:Håndballkamper
END:VEVENT
BEGIN:VEVENT
DTSTART;TZID=UTC:20251213T165000
DTEND;TZID=UTC:20251213T175000
DTSTAMP:20260425T123416
CREATED:20251203T000004Z
LAST-MODIFIED:20251203T000004Z
UID:10018897-1765644600-1765648200@www.vil.no
SUMMARY:Håndballkamp Varhaug - Austrått
DESCRIPTION:
URL:https://www.vil.no/aktivitet/handballkamp-varhaug-austratt/
LOCATION:Varhaughallen\, Opstadvegen 583\, Varhaug\, 4360\, Norge
CATEGORIES:Håndballkamper
END:VEVENT
END:VCALENDAR