BEGIN:VCALENDAR
VERSION:2.0
PRODID:-//Varhaug IL - ECPv6.15.20//NONSGML v1.0//EN
CALSCALE:GREGORIAN
METHOD:PUBLISH
X-WR-CALNAME:Varhaug IL
X-ORIGINAL-URL:https://www.vil.no
X-WR-CALDESC:Arrangement for Varhaug IL
REFRESH-INTERVAL;VALUE=DURATION:PT1H
X-Robots-Tag:noindex
X-PUBLISHED-TTL:PT1H
BEGIN:VTIMEZONE
TZID:UTC
BEGIN:STANDARD
TZOFFSETFROM:+0000
TZOFFSETTO:+0000
TZNAME:UTC
DTSTART:20240101T000000
END:STANDARD
END:VTIMEZONE
BEGIN:VEVENT
DTSTART;TZID=UTC:20251011T150000
DTEND;TZID=UTC:20251011T161500
DTSTAMP:20260425T155806
CREATED:20251011T000004Z
LAST-MODIFIED:20251011T000004Z
UID:10015905-1760194800-1760199300@www.vil.no
SUMMARY:Håndballkamp Varhaug - BSI
DESCRIPTION:
URL:https://www.vil.no/aktivitet/handballkamp-varhaug-bsi-3/
LOCATION:Jæren Sparebank Arena\, Norge
CATEGORIES:Håndballkamper
END:VEVENT
BEGIN:VEVENT
DTSTART;TZID=UTC:20251011T150000
DTEND;TZID=UTC:20251011T161500
DTSTAMP:20260425T155806
CREATED:20251011T000004Z
LAST-MODIFIED:20251011T000004Z
UID:10015906-1760194800-1760199300@www.vil.no
SUMMARY:Håndballkamp Varhaug - BSI
DESCRIPTION:
URL:https://www.vil.no/aktivitet/handballkamp-varhaug-bsi-4/
LOCATION:Jæren Sparebank Arena\, Norge
CATEGORIES:Håndballkamper
END:VEVENT
BEGIN:VEVENT
DTSTART;TZID=UTC:20251016T183000
DTEND;TZID=UTC:20251016T194000
DTSTAMP:20260425T155806
CREATED:20251016T000005Z
LAST-MODIFIED:20251016T000005Z
UID:10016086-1760639400-1760643600@www.vil.no
SUMMARY:Håndballkamp Varhaug 2 - Sandnes
DESCRIPTION:
URL:https://www.vil.no/aktivitet/handballkamp-varhaug-2-sandnes/
LOCATION:Jæren Sparebank Arena\, Norge
CATEGORIES:Håndballkamper
END:VEVENT
BEGIN:VEVENT
DTSTART;TZID=UTC:20251018T120000
DTEND;TZID=UTC:20251018T123500
DTSTAMP:20260425T155806
CREATED:20251018T000004Z
LAST-MODIFIED:20251018T000004Z
UID:10016138-1760788800-1760790900@www.vil.no
SUMMARY:Håndballkamp Nærbø 2 - Varhaug 2
DESCRIPTION:
URL:https://www.vil.no/aktivitet/handballkamp-naerbo-2-varhaug-2-2/
LOCATION:Jæren Sparebank Arena\, Norge
CATEGORIES:Håndballkamper
END:VEVENT
BEGIN:VEVENT
DTSTART;TZID=UTC:20251018T124000
DTEND;TZID=UTC:20251018T131500
DTSTAMP:20260425T155806
CREATED:20251018T000004Z
LAST-MODIFIED:20251018T000004Z
UID:10016207-1760791200-1760793300@www.vil.no
SUMMARY:Håndballkamp Nærbø  - Varhaug
DESCRIPTION:
URL:https://www.vil.no/aktivitet/handballkamp-naerbo-varhaug/
LOCATION:Jæren Sparebank Arena\, Norge
CATEGORIES:Håndballkamper
END:VEVENT
BEGIN:VEVENT
DTSTART;TZID=UTC:20251018T130000
DTEND;TZID=UTC:20251018T141500
DTSTAMP:20260425T155806
CREATED:20251018T000004Z
LAST-MODIFIED:20251018T000004Z
UID:10016218-1760792400-1760796900@www.vil.no
SUMMARY:Håndballkamp Varhaug - Grane Arendal 2
DESCRIPTION:
URL:https://www.vil.no/aktivitet/handballkamp-varhaug-grane-arendal-2/
LOCATION:Varhaughallen\, Opstadvegen 583\, Varhaug\, 4360\, Norge
CATEGORIES:Håndballkamper
END:VEVENT
BEGIN:VEVENT
DTSTART;TZID=UTC:20251018T143000
DTEND;TZID=UTC:20251018T152000
DTSTAMP:20260425T155806
CREATED:20251018T000004Z
LAST-MODIFIED:20251018T000004Z
UID:10016224-1760797800-1760800800@www.vil.no
SUMMARY:Håndballkamp Varhaug 2 - Staal Jørpeland
DESCRIPTION:
URL:https://www.vil.no/aktivitet/handballkamp-varhaug-2-staal-jorpeland-4/
LOCATION:Varhaughallen\, Opstadvegen 583\, Varhaug\, 4360\, Norge
CATEGORIES:Håndballkamper
END:VEVENT
BEGIN:VEVENT
DTSTART;TZID=UTC:20251018T144000
DTEND;TZID=UTC:20251018T151500
DTSTAMP:20260425T155806
CREATED:20251018T000004Z
LAST-MODIFIED:20251018T000004Z
UID:10016234-1760798400-1760800500@www.vil.no
SUMMARY:Håndballkamp Varhaug 2 - Egersund
DESCRIPTION:
URL:https://www.vil.no/aktivitet/handballkamp-varhaug-2-egersund/
LOCATION:Jæren Sparebank Arena\, Norge
CATEGORIES:Håndballkamper
END:VEVENT
BEGIN:VEVENT
DTSTART;TZID=UTC:20251018T152000
DTEND;TZID=UTC:20251018T155500
DTSTAMP:20260425T155806
CREATED:20251018T000004Z
LAST-MODIFIED:20251018T000004Z
UID:10016235-1760800800-1760802900@www.vil.no
SUMMARY:Håndballkamp Varhaug  - Oltedal Idrettslag
DESCRIPTION:
URL:https://www.vil.no/aktivitet/handballkamp-varhaug-oltedal-idrettslag/
LOCATION:Jæren Sparebank Arena\, Norge
CATEGORIES:Håndballkamper
END:VEVENT
BEGIN:VEVENT
DTSTART;TZID=UTC:20251018T155000
DTEND;TZID=UTC:20251018T164000
DTSTAMP:20260425T155806
CREATED:20251018T000004Z
LAST-MODIFIED:20251018T000004Z
UID:10016260-1760802600-1760805600@www.vil.no
SUMMARY:Håndballkamp Varhaug  - Lye
DESCRIPTION:
URL:https://www.vil.no/aktivitet/handballkamp-varhaug-lye/
LOCATION:Varhaughallen\, Opstadvegen 583\, Varhaug\, 4360\, Norge
CATEGORIES:Håndballkamper
END:VEVENT
BEGIN:VEVENT
DTSTART;TZID=UTC:20251018T160000
DTEND;TZID=UTC:20251018T165000
DTSTAMP:20260425T155806
CREATED:20251018T000004Z
LAST-MODIFIED:20251018T000004Z
UID:10016581-1760803200-1760806200@www.vil.no
SUMMARY:Håndballkamp Varhaug  - Nærbø 1
DESCRIPTION:
URL:https://www.vil.no/aktivitet/handballkamp-varhaug-naerbo-1/
LOCATION:Jæren Sparebank Arena\, Norge
CATEGORIES:Håndballkamper
END:VEVENT
BEGIN:VEVENT
DTSTART;TZID=UTC:20251018T165000
DTEND;TZID=UTC:20251018T175000
DTSTAMP:20260425T155806
CREATED:20251018T000005Z
LAST-MODIFIED:20251018T000005Z
UID:10016604-1760806200-1760809800@www.vil.no
SUMMARY:Håndballkamp Varhaug - Vigrestad IK
DESCRIPTION:
URL:https://www.vil.no/aktivitet/handballkamp-varhaug-vigrestad-ik/
LOCATION:Varhaughallen\, Opstadvegen 583\, Varhaug\, 4360\, Norge
CATEGORIES:Håndballkamper
END:VEVENT
BEGIN:VEVENT
DTSTART;TZID=UTC:20251019T100000
DTEND;TZID=UTC:20251019T103500
DTSTAMP:20260425T155806
CREATED:20250930T000004Z
LAST-MODIFIED:20250930T000004Z
UID:10016633-1760868000-1760870100@www.vil.no
SUMMARY:Håndballkamp Varhaug  - Viking 3
DESCRIPTION:
URL:https://www.vil.no/aktivitet/handballkamp-varhaug-viking-3/
LOCATION:Varhaughallen\, Opstadvegen 583\, Varhaug\, 4360\, Norge
CATEGORIES:Håndballkamper
END:VEVENT
BEGIN:VEVENT
DTSTART;TZID=UTC:20251019T100000
DTEND;TZID=UTC:20251019T103500
DTSTAMP:20260425T155806
CREATED:20251019T000002Z
LAST-MODIFIED:20251019T000002Z
UID:10018609-1760868000-1760870100@www.vil.no
SUMMARY:Håndballkamp Varhaug  - Viking 3
DESCRIPTION:
URL:https://www.vil.no/aktivitet/handballkamp-varhaug-viking-3-2/
LOCATION:Varhaughallen\, Opstadvegen 583\, Varhaug\, 4360\, Norge
CATEGORIES:Håndballkamper
END:VEVENT
BEGIN:VEVENT
DTSTART;TZID=UTC:20251019T112000
DTEND;TZID=UTC:20251019T115500
DTSTAMP:20260425T155806
CREATED:20250930T000004Z
LAST-MODIFIED:20250930T000004Z
UID:10016657-1760872800-1760874900@www.vil.no
SUMMARY:Håndballkamp Varhaug  - Viking 4
DESCRIPTION:
URL:https://www.vil.no/aktivitet/handballkamp-varhaug-viking-4/
LOCATION:Varhaughallen\, Opstadvegen 583\, Varhaug\, 4360\, Norge
CATEGORIES:Håndballkamper
END:VEVENT
BEGIN:VEVENT
DTSTART;TZID=UTC:20251019T112000
DTEND;TZID=UTC:20251019T115500
DTSTAMP:20260425T155806
CREATED:20251019T000002Z
LAST-MODIFIED:20251019T000002Z
UID:10018610-1760872800-1760874900@www.vil.no
SUMMARY:Håndballkamp Varhaug  - Viking 4
DESCRIPTION:
URL:https://www.vil.no/aktivitet/handballkamp-varhaug-viking-4-2/
LOCATION:Varhaughallen\, Opstadvegen 583\, Varhaug\, 4360\, Norge
CATEGORIES:Håndballkamper
END:VEVENT
BEGIN:VEVENT
DTSTART;TZID=UTC:20251019T120000
DTEND;TZID=UTC:20251019T123500
DTSTAMP:20260425T155806
CREATED:20250930T000004Z
LAST-MODIFIED:20250930T000004Z
UID:10016625-1760875200-1760877300@www.vil.no
SUMMARY:Håndballkamp Viking 3 - Varhaug 2
DESCRIPTION:
URL:https://www.vil.no/aktivitet/handballkamp-viking-3-varhaug-2/
LOCATION:Varhaughallen\, Opstadvegen 583\, Varhaug\, 4360\, Norge
CATEGORIES:Håndballkamper
END:VEVENT
BEGIN:VEVENT
DTSTART;TZID=UTC:20251019T120000
DTEND;TZID=UTC:20251019T123500
DTSTAMP:20260425T155806
CREATED:20251019T000002Z
LAST-MODIFIED:20251019T000002Z
UID:10018611-1760875200-1760877300@www.vil.no
SUMMARY:Håndballkamp Viking 3 - Varhaug 2
DESCRIPTION:
URL:https://www.vil.no/aktivitet/handballkamp-viking-3-varhaug-2-2/
LOCATION:Varhaughallen\, Opstadvegen 583\, Varhaug\, 4360\, Norge
CATEGORIES:Håndballkamper
END:VEVENT
BEGIN:VEVENT
DTSTART;TZID=UTC:20251019T124000
DTEND;TZID=UTC:20251019T131500
DTSTAMP:20260425T155806
CREATED:20251019T000003Z
LAST-MODIFIED:20251019T000003Z
UID:10018612-1760877600-1760879700@www.vil.no
SUMMARY:Håndballkamp Varhaug 2 - Egersund
DESCRIPTION:
URL:https://www.vil.no/aktivitet/handballkamp-varhaug-2-egersund-3/
LOCATION:Varhaughallen\, Opstadvegen 583\, Varhaug\, 4360\, Norge
CATEGORIES:Håndballkamper
END:VEVENT
BEGIN:VEVENT
DTSTART;TZID=UTC:20251019T132000
DTEND;TZID=UTC:20251019T135500
DTSTAMP:20260425T155806
CREATED:20250930T000004Z
LAST-MODIFIED:20250930T000004Z
UID:10016658-1760880000-1760882100@www.vil.no
SUMMARY:Håndballkamp Varhaug 2 - Egersund
DESCRIPTION:
URL:https://www.vil.no/aktivitet/handballkamp-varhaug-2-egersund-2/
LOCATION:Varhaughallen\, Opstadvegen 583\, Varhaug\, 4360\, Norge
CATEGORIES:Håndballkamper
END:VEVENT
BEGIN:VEVENT
DTSTART;TZID=UTC:20251025T170000
DTEND;TZID=UTC:20251025T181500
DTSTAMP:20260425T155806
CREATED:20251025T000004Z
LAST-MODIFIED:20251025T000004Z
UID:10015907-1761411600-1761416100@www.vil.no
SUMMARY:Håndballkamp Varhaug - Gneist\,IL
DESCRIPTION:
URL:https://www.vil.no/aktivitet/handballkamp-varhaug-gneistil/
LOCATION:Jæren Sparebank Arena\, Norge
CATEGORIES:Håndballkamper
END:VEVENT
BEGIN:VEVENT
DTSTART;TZID=UTC:20251026T130000
DTEND;TZID=UTC:20251026T135000
DTSTAMP:20260425T155806
CREATED:20251026T000002Z
LAST-MODIFIED:20251026T000002Z
UID:10018598-1761483600-1761486600@www.vil.no
SUMMARY:Håndballkamp Varhaug - Ålgård 2
DESCRIPTION:
URL:https://www.vil.no/aktivitet/handballkamp-varhaug-algard-2/
LOCATION:Jæren Sparebank Arena\, Norge
CATEGORIES:Håndballkamper
END:VEVENT
BEGIN:VEVENT
DTSTART;TZID=UTC:20251026T140000
DTEND;TZID=UTC:20251026T145000
DTSTAMP:20260425T155806
CREATED:20251026T000002Z
LAST-MODIFIED:20251026T000002Z
UID:10018646-1761487200-1761490200@www.vil.no
SUMMARY:Håndballkamp Varhaug  - Ålgård
DESCRIPTION:
URL:https://www.vil.no/aktivitet/handballkamp-varhaug-algard/
LOCATION:Jæren Sparebank Arena\, Norge
CATEGORIES:Håndballkamper
END:VEVENT
BEGIN:VEVENT
DTSTART;TZID=UTC:20251026T170000
DTEND;TZID=UTC:20251026T175000
DTSTAMP:20260425T155806
CREATED:20251026T000002Z
LAST-MODIFIED:20251026T000002Z
UID:10018657-1761498000-1761501000@www.vil.no
SUMMARY:Håndballkamp Varhaug - Ålgård
DESCRIPTION:
URL:https://www.vil.no/aktivitet/handballkamp-varhaug-algard-3/
LOCATION:Jæren Sparebank Arena\, Norge
CATEGORIES:Håndballkamper
END:VEVENT
BEGIN:VEVENT
DTSTART;TZID=UTC:20251027T193000
DTEND;TZID=UTC:20251027T204500
DTSTAMP:20260425T155806
CREATED:20251027T000004Z
LAST-MODIFIED:20251027T000004Z
UID:10018666-1761593400-1761597900@www.vil.no
SUMMARY:Håndballkamp Varhaug - Randaberg
DESCRIPTION:
URL:https://www.vil.no/aktivitet/handballkamp-varhaug-randaberg/
LOCATION:Jæren Sparebank Arena\, Norge
CATEGORIES:Håndballkamper
END:VEVENT
BEGIN:VEVENT
DTSTART;TZID=UTC:20251030T182000
DTEND;TZID=UTC:20251030T193000
DTSTAMP:20260425T155806
CREATED:20251030T000005Z
LAST-MODIFIED:20251030T000005Z
UID:10018672-1761848400-1761852600@www.vil.no
SUMMARY:Håndballkamp Varhaug 2 - Havørn
DESCRIPTION:
URL:https://www.vil.no/aktivitet/handballkamp-varhaug-2-havorn/
LOCATION:Jæren Sparebank Arena\, Norge
CATEGORIES:Håndballkamper
END:VEVENT
END:VCALENDAR