BEGIN:VCALENDAR
VERSION:2.0
PRODID:-//Varhaug IL - ECPv6.15.20//NONSGML v1.0//EN
CALSCALE:GREGORIAN
METHOD:PUBLISH
X-WR-CALNAME:Varhaug IL
X-ORIGINAL-URL:https://www.vil.no
X-WR-CALDESC:Arrangement for Varhaug IL
REFRESH-INTERVAL;VALUE=DURATION:PT1H
X-Robots-Tag:noindex
X-PUBLISHED-TTL:PT1H
BEGIN:VTIMEZONE
TZID:UTC
BEGIN:STANDARD
TZOFFSETFROM:+0000
TZOFFSETTO:+0000
TZNAME:UTC
DTSTART:20250101T000000
END:STANDARD
END:VTIMEZONE
BEGIN:VEVENT
DTSTART;TZID=UTC:20260111T100000
DTEND;TZID=UTC:20260111T105000
DTSTAMP:20260425T155538
CREATED:20260111T000004Z
LAST-MODIFIED:20260111T000004Z
UID:10019026-1768125600-1768128600@www.vil.no
SUMMARY:Håndballkamp Varhaug  - Nærbø 4
DESCRIPTION:
URL:https://www.vil.no/aktivitet/handballkamp-varhaug-naerbo-4-2/
LOCATION:Jæren Sparebank Arena\, Norge
CATEGORIES:Håndballkamper
END:VEVENT
BEGIN:VEVENT
DTSTART;TZID=UTC:20260111T110000
DTEND;TZID=UTC:20260111T180000
DTSTAMP:20260425T155538
CREATED:20260105T084155Z
LAST-MODIFIED:20260105T084155Z
UID:10019453-1768129200-1768154400@www.vil.no
SUMMARY:Futsal på Forus J15
DESCRIPTION:
URL:https://www.vil.no/aktivitet/futsal-pa-forus-j15/
LOCATION:Bussen\, Norge
CATEGORIES:Manuelle bookinger
END:VEVENT
BEGIN:VEVENT
DTSTART;TZID=UTC:20260111T140000
DTEND;TZID=UTC:20260111T180000
DTSTAMP:20260425T155538
CREATED:20251124T091632Z
LAST-MODIFIED:20251126T092759Z
UID:10018781-1768140000-1768154400@www.vil.no
SUMMARY:Barnebursdag
DESCRIPTION:
URL:https://www.vil.no/aktivitet/barnebursdag/
LOCATION:Sosialt rom – JSA\, Norge
CATEGORIES:Manuelle bookinger
END:VEVENT
BEGIN:VEVENT
DTSTART;TZID=UTC:20260111T161500
DTEND;TZID=UTC:20260111T171500
DTSTAMP:20260425T155538
CREATED:20260111T000004Z
LAST-MODIFIED:20260111T000004Z
UID:10019140-1768148100-1768151700@www.vil.no
SUMMARY:Håndballkamp Varhaug - Ålgård 2
DESCRIPTION:
URL:https://www.vil.no/aktivitet/handballkamp-varhaug-algard-2-4/
LOCATION:Jæren Sparebank Arena\, Norge
CATEGORIES:Håndballkamper
END:VEVENT
END:VCALENDAR