BEGIN:VCALENDAR
VERSION:2.0
PRODID:-//Varhaug IL - ECPv6.15.20//NONSGML v1.0//EN
CALSCALE:GREGORIAN
METHOD:PUBLISH
X-ORIGINAL-URL:https://www.vil.no
X-WR-CALDESC:Arrangement for Varhaug IL
REFRESH-INTERVAL;VALUE=DURATION:PT1H
X-Robots-Tag:noindex
X-PUBLISHED-TTL:PT1H
BEGIN:VTIMEZONE
TZID:UTC
BEGIN:STANDARD
TZOFFSETFROM:+0000
TZOFFSETTO:+0000
TZNAME:UTC
DTSTART:20240101T000000
END:STANDARD
END:VTIMEZONE
BEGIN:VEVENT
DTSTART;TZID=UTC:20251205T150000
DTEND;TZID=UTC:20251207T180000
DTSTAMP:20260425T155611
CREATED:20250819T121623Z
LAST-MODIFIED:20250819T121623Z
UID:10016208-1764946800-1765130400@www.vil.no
SUMMARY:E-Sport Lan
DESCRIPTION:
URL:https://www.vil.no/aktivitet/e-sport-lan-2/
LOCATION:Kaféen\, Norge
CATEGORIES:Manuelle bookinger
END:VEVENT
BEGIN:VEVENT
DTSTART;TZID=UTC:20251205T180000
DTEND;TZID=UTC:20251207T170000
DTSTAMP:20260425T155611
CREATED:20251020T065212Z
LAST-MODIFIED:20251020T065212Z
UID:10018667-1764957600-1765126800@www.vil.no
SUMMARY:Julebord\, håndball
DESCRIPTION:
URL:https://www.vil.no/aktivitet/julebord-handball/
LOCATION:Salen\, Norge
CATEGORIES:Manuelle bookinger
END:VEVENT
BEGIN:VEVENT
DTSTART;TZID=UTC:20251207T080000
DTEND;TZID=UTC:20251207T210000
DTSTAMP:20260425T155611
CREATED:20250123T091756Z
LAST-MODIFIED:20250123T091756Z
UID:10012752-1765094400-1765141200@www.vil.no
SUMMARY:Julegrøt for familien Håland
DESCRIPTION:
URL:https://www.vil.no/aktivitet/julegrot-for-familien-haland/
LOCATION:Sosialt rom – JSA\, Norge
CATEGORIES:Manuelle bookinger
END:VEVENT
BEGIN:VEVENT
DTSTART;TZID=UTC:20251207T120000
DTEND;TZID=UTC:20251207T125000
DTSTAMP:20260425T155611
CREATED:20251207T000005Z
LAST-MODIFIED:20251207T000005Z
UID:10018886-1765108800-1765111800@www.vil.no
SUMMARY:Håndballkamp Varhaug  - Ålgård
DESCRIPTION:
URL:https://www.vil.no/aktivitet/handballkamp-varhaug-algard-4/
LOCATION:Jæren Sparebank Arena\, Norge
CATEGORIES:Håndballkamper
END:VEVENT
BEGIN:VEVENT
DTSTART;TZID=UTC:20251207T133000
DTEND;TZID=UTC:20251207T142000
DTSTAMP:20260425T155611
CREATED:20251207T000005Z
LAST-MODIFIED:20251207T000005Z
UID:10018888-1765114200-1765117200@www.vil.no
SUMMARY:Håndballkamp Varhaug 2 - Hundvåg 2
DESCRIPTION:
URL:https://www.vil.no/aktivitet/handballkamp-varhaug-2-hundvag-2-2/
LOCATION:Jæren Sparebank Arena\, Norge
CATEGORIES:Håndballkamper
END:VEVENT
BEGIN:VEVENT
DTSTART;TZID=UTC:20251207T140000
DTEND;TZID=UTC:20251207T145000
DTSTAMP:20260425T155611
CREATED:20251207T000005Z
LAST-MODIFIED:20251207T000005Z
UID:10018889-1765116000-1765119000@www.vil.no
SUMMARY:Håndballkamp Varhaug - Hundvåg 1
DESCRIPTION:
URL:https://www.vil.no/aktivitet/handballkamp-varhaug-hundvag-1-2/
LOCATION:Varhaughallen\, Opstadvegen 583\, Varhaug\, 4360\, Norge
CATEGORIES:Håndballkamper
END:VEVENT
BEGIN:VEVENT
DTSTART;TZID=UTC:20251207T150000
DTEND;TZID=UTC:20251207T193000
DTSTAMP:20260425T155611
CREATED:20250123T091827Z
LAST-MODIFIED:20250123T091827Z
UID:10012753-1765119600-1765135800@www.vil.no
SUMMARY:Julegrøt for familien Håland
DESCRIPTION:
URL:https://www.vil.no/aktivitet/julegrot-for-familien-haland-2/
LOCATION:Turnrommet\, Norge
CATEGORIES:Manuelle bookinger
END:VEVENT
END:VCALENDAR