BEGIN:VCALENDAR
VERSION:2.0
PRODID:-//Varhaug IL - ECPv6.15.20//NONSGML v1.0//EN
CALSCALE:GREGORIAN
METHOD:PUBLISH
X-ORIGINAL-URL:https://www.vil.no
X-WR-CALDESC:Arrangement for Varhaug IL
REFRESH-INTERVAL;VALUE=DURATION:PT1H
X-Robots-Tag:noindex
X-PUBLISHED-TTL:PT1H
BEGIN:VTIMEZONE
TZID:UTC
BEGIN:STANDARD
TZOFFSETFROM:+0000
TZOFFSETTO:+0000
TZNAME:UTC
DTSTART:20240101T000000
END:STANDARD
END:VTIMEZONE
BEGIN:VEVENT
DTSTART;TZID=UTC:20251129T080000
DTEND;TZID=UTC:20251130T210000
DTSTAMP:20260425T174515
CREATED:20250917T104627Z
LAST-MODIFIED:20250917T104627Z
UID:10016636-1764403200-1764536400@www.vil.no
SUMMARY:Hallbasar
DESCRIPTION:
URL:https://www.vil.no/aktivitet/hallbasar/
LOCATION:Jæren Sparebank Arena\, Norge
CATEGORIES:Manuelle bookinger
END:VEVENT
BEGIN:VEVENT
DTSTART;TZID=UTC:20251129T170000
DTEND;TZID=UTC:20251130T130000
DTSTAMP:20260425T174515
CREATED:20251024T113044Z
LAST-MODIFIED:20251024T113044Z
UID:10018702-1764435600-1764507600@www.vil.no
SUMMARY:Julebord dame a
DESCRIPTION:
URL:https://www.vil.no/aktivitet/julebord-dame-a/
LOCATION:Fotballtribune – sosialt rom\, Norge
CATEGORIES:Manuelle bookinger
END:VEVENT
BEGIN:VEVENT
DTSTART;TZID=UTC:20251130T124000
DTEND;TZID=UTC:20251130T131500
DTSTAMP:20260425T174515
CREATED:20251130T000004Z
LAST-MODIFIED:20251130T000004Z
UID:10018785-1764506400-1764508500@www.vil.no
SUMMARY:Håndballkamp Ganddal 1 - Varhaug 1
DESCRIPTION:
URL:https://www.vil.no/aktivitet/handballkamp-ganddal-1-varhaug-1/
LOCATION:Varhaughallen\, Opstadvegen 583\, Varhaug\, 4360\, Norge
CATEGORIES:Håndballkamper
END:VEVENT
BEGIN:VEVENT
DTSTART;TZID=UTC:20251130T140000
DTEND;TZID=UTC:20251130T143500
DTSTAMP:20260425T174515
CREATED:20251130T000004Z
LAST-MODIFIED:20251130T000004Z
UID:10018786-1764511200-1764513300@www.vil.no
SUMMARY:Håndballkamp Vigrestad 2 - Varhaug 2
DESCRIPTION:
URL:https://www.vil.no/aktivitet/handballkamp-vigrestad-2-varhaug-2/
LOCATION:Varhaughallen\, Opstadvegen 583\, Varhaug\, 4360\, Norge
CATEGORIES:Håndballkamper
END:VEVENT
BEGIN:VEVENT
DTSTART;TZID=UTC:20251130T144000
DTEND;TZID=UTC:20251130T151500
DTSTAMP:20260425T174515
CREATED:20251130T000004Z
LAST-MODIFIED:20251130T000004Z
UID:10018787-1764513600-1764515700@www.vil.no
SUMMARY:Håndballkamp Varhaug 1 - Vigrestad
DESCRIPTION:
URL:https://www.vil.no/aktivitet/handballkamp-varhaug-1-vigrestad/
LOCATION:Varhaughallen\, Opstadvegen 583\, Varhaug\, 4360\, Norge
CATEGORIES:Håndballkamper
END:VEVENT
BEGIN:VEVENT
DTSTART;TZID=UTC:20251130T152000
DTEND;TZID=UTC:20251130T155500
DTSTAMP:20260425T174515
CREATED:20251130T000004Z
LAST-MODIFIED:20251130T000004Z
UID:10018788-1764516000-1764518100@www.vil.no
SUMMARY:Håndballkamp Varhaug 2 - Egersund J11
DESCRIPTION:
URL:https://www.vil.no/aktivitet/handballkamp-varhaug-2-egersund-j11/
LOCATION:Varhaughallen\, Opstadvegen 583\, Varhaug\, 4360\, Norge
CATEGORIES:Håndballkamper
END:VEVENT
BEGIN:VEVENT
DTSTART;TZID=UTC:20251130T163000
DTEND;TZID=UTC:20251130T172000
DTSTAMP:20260425T174515
CREATED:20251128T000004Z
LAST-MODIFIED:20251128T000004Z
UID:10018800-1764520200-1764523200@www.vil.no
SUMMARY:Håndballkamp Varhaug  - Nærbø 2
DESCRIPTION:
URL:https://www.vil.no/aktivitet/handballkamp-varhaug-naerbo-2/
LOCATION:Varhaughallen\, Opstadvegen 583\, Varhaug\, 4360\, Norge
CATEGORIES:Håndballkamper
END:VEVENT
BEGIN:VEVENT
DTSTART;TZID=UTC:20251130T180000
DTEND;TZID=UTC:20251130T190000
DTSTAMP:20260425T174515
CREATED:20251130T000004Z
LAST-MODIFIED:20251130T000004Z
UID:10015934-1764525600-1764529200@www.vil.no
SUMMARY:Håndballkamp Varhaug - Brodd
DESCRIPTION:
URL:https://www.vil.no/aktivitet/handballkamp-varhaug-brodd-2/
LOCATION:Varhaughallen\, Opstadvegen 583\, Varhaug\, 4360\, Norge
CATEGORIES:Håndballkamper
END:VEVENT
END:VCALENDAR